BEGIN:VCALENDAR
VERSION:2.0
PRODID:-//Soleas Academy - ECPv6.15.16.1//NONSGML v1.0//EN
CALSCALE:GREGORIAN
METHOD:PUBLISH
X-ORIGINAL-URL:https://soleas.eu
X-WR-CALDESC:Events for Soleas Academy
REFRESH-INTERVAL;VALUE=DURATION:PT1H
X-Robots-Tag:noindex
X-PUBLISHED-TTL:PT1H
BEGIN:VTIMEZONE
TZID:UTC
BEGIN:STANDARD
TZOFFSETFROM:+0000
TZOFFSETTO:+0000
TZNAME:UTC
DTSTART:20250101T000000
END:STANDARD
END:VTIMEZONE
BEGIN:VEVENT
DTSTART;TZID=UTC:20261017T100000
DTEND;TZID=UTC:20261018T173000
DTSTAMP:20260425T112347
CREATED:20240527T132125Z
LAST-MODIFIED:20260409T143141Z
UID:1194-1792231200-1792344600@soleas.eu
SUMMARY:Πρόγραμμα Συμβούλου NLP Practitioner Πιστοποιημένο
DESCRIPTION:Εκπαίδευση  NLP Practitioner \n Δυνατότητα παρακολούθησης  και εξ΄αποστάσεως\nΠαράλληλη Εκπαίδευση Δια ζώσης ​​ &​​ Εξ αποστάσεως. Σας δίνουμε τη​​ δυνατότητα να επιλέξετε\,​​ αν επιθυμείτε να βρίσκεστε με​​ φυσική παρουσία​​ στην αίθουσα\, μαζί με τον εκπαιδευτή ή να συμμετέχετε εξ αποστάσεως​​ και να αλληλοεπιδράτε με την τάξη\,​​ σε πραγματικό χρόνο​​ μέσα από την οθόνη σας. \nΑν μπορούσατε να μάθετε δεξιότητες που θα μπορούσαν να επιταχύνουν την ανάπτυξη σας (επαγγελματική και προσωπική) για χρόνια\, αυτή θα είναι η πιο πολύτιμη επένδυση σε εκπαίδευση που θα μπορούσατε να κάνετε για σας.\nΑυτό ακριβώς είναι που οι άνθρωποι που παρακολουθούν τα μαθήματα μας\, μας έχουν πει ξανά και ξανά.\nΑπό την κατάρτιση του NLP μπορείτε να μάθετε δεξιότητες που μπορείτε να εφαρμόσετε άμεσα σε κάθε τομέα της ζωής σας – στις επιχειρήσεις\, στις σχέσεις\, τη ζωή στο σπίτι\, την εκπαίδευση κλπ.\nΘα μάθετε προηγμένες δεξιότητες για πιο αποτελεσματική επικοινωνία με άλλους ανθρώπους\, αλλά και δεξιότητες για πιο δυναμική επικοινωνία με τον εαυτό σας\, έτσι ώστε να μπορείτε να είστε ο κυρίαρχος του μυαλού και των συναισθημάτων σας. \nΚοινά προβλήματα που αντιμετωπίζουν οι άνθρωποι είναι τα εξής:\n◦ Άγχος\n◦ Προβλήματα σχέσεων\n◦ Φτωχή εικόνα του εαυτού\n◦ Περιοριστικές πεποιθήσεις που μας κρατούν πίσω\n◦ Έλλειψη κατεύθυνσης\n◦ Φόβοι και ανασφάλειες\n◦ Η επικοινωνία με άλλους ανθρώπους\n◦ Ο φόβος της παρουσίασης \nΗ κατάρτιση στον NLP προσφέρει τεχνικές και αρχές που βοηθούν τους ανθρώπους σε όλους αυτούς τους τομείς και πολλά άλλα\nΤο πιστοποιημένο πρόγραμμα του NLP Practitioner έχει σχεδιαστεί να σας δώσει τις ικανότητες που χρειάζεστε και τα αποτελέσματα που θέλετε σε Μόνο Εννέα Μέρες!! \nΩς πιστοποιημένος εκπαιδευτής του NLP\, έχω δει χιλιάδες φορές τη δύναμη των τεχνικών του NLP  να αλλάζουν ζωές. \nΕίτε δουλεύω με  ένα διευθυντή πωλήσεων που απλά δεν φαίνεται να μπορεί να πάρει την επιχείρησή του στο επόμενο επίπεδο ή με ένα άνθρωπο που απλά θέλει να κάνει μια αλλαγή στην ζωή του\, συνεχώς θαυμάζω τη μαγεία του NLP. \nΣε κάθε προσωπική αλληλεπίδραση που έχω\, είτε πρόκειται για μια ανεπίσημη συζήτηση με έναν συνεργάτη\, με ένα υψηλόβαθμο στέλεχος μιας επιχείρησης ή ένα πελάτη\, να είστε σίγουροι ότι χρησιμοποιώ την εκπληκτική τεχνολογία του NLP. \nΜου πήρε πάνω από 15 χρόνια για να αποκτήσω τις γνώσεις που έχω σήμερα\, και πιστέψτε με\, δεν ήταν πάντα εύκολο. Έχω ξοδέψει περισσότερο χρόνο και χρήματα για βιβλία\, σεμινάρια\, σπουδές και εκπαιδεύσεις από ότι μπορώ να σκεφτώ. \nΌμως\, ο στόχος μου ήταν και είναι πάντα να παραμένω στην αιχμή της ανάπτυξης του ανθρώπου\, την εξεύρεση τρόπων για να τους βοηθώ να ζήσουν και να επικοινωνούν πιο αποτελεσματικά\, χωρίς να θυσιάζουν την ποιότητα ή το περιεχόμενο. \nΑκόμα και σήμερα\, αναβαθμίζω συνεχώς τα προγράμματα σπουδών μου για να διασφαλιστεί ότι οι μαθητές και οι πελάτες μου θα πάρουν τα οφέλη από τις τελευταίες και μεγαλύτερες τεχνικές στον κόσμο που έχει να προσφέρει το NLP. \nΕνημερωτικό Δελτίο …. Πατήστε …\n    Εκπαίδευση NLP Συμβούλου  Εξ’αποστάσεως με σύγχρονη μάθηση \nΑς το παραδεχτούμε\, είστε πολυάσχολα άτομα σε ένα πολυάσχολο κόσμο. Όταν ψάχνετε για την απόκτηση νέων γνώσεων ή μια νέα δεξιότητα\, την χρειάζεστε τώρα! Όχι σε δύο χρόνια ή ακόμα και μήνες από τώρα. \nΚαι το τελευταίο πράγμα που θέλετε να κάνετε είναι να επενδύσετε τα χρήματά σας που με κόπο αποκτήσατε\, ώστε να καθίσετε σε μια τεράστια αίθουσα με 500 άλλους που αγωνίζονται για να δουν τον εκπαιδευτή ή να ακούσουν τι λέει. \nΓι ‘αυτό προσφέρω μια μοναδική\, διαδραστική εκπαιδευτική ευκαιρία με στόχο και γνώμονα τους ανθρώπους που θέλουν να μάθουν τις τελευταίες τεχνικές για να αλλάξουν τη ζωή τους και τις ζωές των άλλων. Είτε στην αίθουσα συνεδριάσεων\, είτε στην τάξη\, στο γραφείο ή στο σπίτι\, αυτά τα εργαλεία θα σας επιτρέψουν όχι μόνο να αναγνωρίζετε τα μοτίβα που εμποδίζουν την επιτυχία\, αλλά και να αλλάξετε αυτές τις συνήθειες και να υιοθετήσετε τις συμπεριφορές και τις στάσεις του νικητή! \nΠεριορίζω τα μαθήματά μου σε λίγους μόνο συμμετέχοντες\, γιατί θέλω να εξασφαλίσω ότι ο καθένας θα πάρει την αξία των χρημάτων του μέσω της άμεσης επαφής με τον εκπαιδευτή και τους άλλους μαθητές. Δεν κάνω απλά διάλεξη και επίδειξη. Να είστε βέβαιοι ότι θα έχετε φύγει με μια σαφή κατανόηση των τεχνικών. \nΛάβετε υπόψη ότι αυτή η εκπαίδευση δεν είναι για όλους. Αυτή είναι μια εντατική\, γρήγορη εκπαίδευση του NLP με πιστοποίηση που αποτελείται από 50 + ώρες διδασκαλίας στην τάξη εκτός από την εργασία στο σπίτι. Δεν θα σας διδάξω μόνο τις δεξιότητες και τις τεχνικές\, αλλά και θα σας ζητήσω να αποδείξετε την αποτελεσματικότητα των τεχνικών σας ικανοτήτων και αυτό θα γίνει. \nΌταν τελειώσετε αυτήν την εκπαίδευση\, θα ξέρετε ότι δεν σας δόθηκε μια πιστοποίηση … θα ξέρετε ότι την έχετε κερδίσει! \nΌλο το πρόγραμμα γίνεται με την μέθοδο της μικτής εκπαίδευσης:\nΤο πρόγραμμα εκπαίδευσης στο NLP Practitioner 4 Σαββατοκύριακα. \n\nΟκτωβρίου Εξ Αποστάσεως και στην τάξη\n Νοεμβρίου  Εξ αποστάσεως και στην τάξη\n Δεκεμβρίου Εξ αποστάσεως και στην τάξη\nΙανουαρίου Εξ αποστάσεως και στην τάξη\nΕπιπρόσθετες μέρες ενδιάμεσα των μαθημάτων για πρακτική εξάσκηση (προαιρετικές)\n\nΤα μαθήματα που γίνονται στην τάξη η παρουσία δεν είναι υποχρεωτική\, μπορείτε να παρακολουθήσετε όλο το πρόγραμμα εξ αποστάσεως. \nΩράρια Διεξαγωγής: Τάξη και εξ ‘αποστάσεως:\nΏρες:   Σαββατοκύριακα: 10.00 π.μ. εώς 17.30 μ.μ με διαλείμματα για καφέ και μεσημεριανό φαγητό.. \nΔίδακτρα:\nΜία μοναδική ευκαιρία \nΤιμή: 850 (με δόσεις ανα μήνα) \nΓια εφάπαξ καταβολή των διδάκτρων ειδική τιμή 800 ευρώ  \nΠάρτε όσο χρόνο χρειάζεστε για να διαβάσετε αυτήν την σελίδα και νιώστε έτοιμοι να κάνετε το επόμενο βήμα επικοινωνώντας μαζί μας για να κρατήσετε μια από τις θέσεις. \nΕκπαιδευτής σας ο Χαράλαμπος Σολέας\, ένας από τους λίγους στον Ελλαδικό χώρο πιστοποιημένος εκπαιδευτής από τον ANLP (Διεθνής Σύνδεσμος NLP)\, \nΟ Χαράλαμπος Σολέας με δύο από τους πρώτους ιδρυτές του NLP\, Richard Bandler co-developer of NLP και R. Frank Pucelik co-developer of NLP \n  \n Τελειώνοντας το Πρόγραμμα θα πάρετε:  NLP Practitioner Certification. Αναγνωρισμένο από διεθνείς συνδέσμους του NLP:\n     \nΗμερομηνίες διεξαγωγής εκπαιδεύσεων. \nΌλο το πρόγραμμα γίνεται με την μέθοδο της μικτής εκπαίδευσης:\nΤο πρόγραμμα εκπαίδευσης NLP Practitioner σε 3 Σαββατοκύριακα ενα τον μήνα \n\nΕπιπρόσθετες μέρες ενδιάμεσα των μαθημάτων για πρακτική εξάσκηση (προαιρετικές)\n\nΤα μαθήματα που γίνονται στην τάξη η παρουσία δεν είναι υποχρεωτική\, μπορείτε να παρακολουθήσετε όλο το πρόγραμμα εξ αποστάσεως \nΩράρια Διεξαγωγής: Τάξη και εξ ‘αποστάσεως: \nΕναρξη: 11 Οκτωβρίου \nΣαββατοκύριακα: 10.00 π.μ. εώς 17.30 μ.μ με διαλείμματα για καφέ και μεσημεριανό φαγητό \nΔίδακτρα:\nΤο κόστος του προγράμματος είναι €850.00 με δυνατότητα ευκολίας μηνιαίων πληρωμών \nΠεριλαμβάνονται όλα τα εγχειρίδια\, βιβλία και πιστοποιητικό \nΤρόποι πληρωμής:\nΑνά μήνα\nΥπάρχει και η δυνατότητα πληρωμής με πιστωτική Κάρτα \nΠλήρης Ενημερωτικό Δελτίο – Πατήστε να διαβάσετε\nΦόρμα Συμμετοχής – Πατήστε\nΠληρωμή και κράτηση Θέσεων \n[wp_eStore_fancy2 id=1] \nΗ Επικοινωνήστε μαζί μας για να σας σταλεί η φόρμα εγράφης \nΓια Κύπρο και Ελλάδα:   Τηλ 00357 99609886\nΣε ποιους απευθύνεται; \nΤο πρόγραμμα απευθύνεται στον κάθε ένα\, σε φοιτητές\, εργαζομένους\, στελέχη επιχειρήσεων\, θεραπευτές\, ψυχολόγους κ.α\, που επιθυμούν να γίνουν Coach και να βοηθούν συνανθρώπους τους να ζουν βάσει στόχων και να επιλύουν τα όποια προβλήματα της καθημερινότητας\, άμεσα και αποτελεσματικά. \nΣτο πρόγραμμα αυτό\, θα λάβετε εκπαίδευση που δεν παρέχεται πουθενά στα κλασσικά εκπαιδευτικά προγράμματα Coaching\, διότι είναι μοντέλο που χρησιμοποιεί το NLP  για Coaching όπως και ψυχολογία. Θα μάθετε πως μπορείτε να δουλέψετε με οποιονδήποτε πελάτη και να  βοηθάτε να αποκτήσει περισσότερη ευτυχία\, μεγαλύτερη επιτυχία\, καλύτερη σχέση\, κορυφαία επίδοση και επικοινωνιακές δεξιότητες σε κάθε τομέα της ζωής του.   \n Άνθρωποι που έχουν παρακολουθήσει εκπαιδεύσεις μας \n◦ Επιχειρηματίες – που θέλουν να βελτιώσουν την ικανότητά τους να επικοινωνούν\, να βελτιώσουν την επιχείρησή τους\, να βελτιώσουν τις δεξιότητές τους στην παρουσίαση\, να μάθουν πώς να πουλούν καλύτερα. Γενικότερα\, άνθρωποι που θέλουν να διαπραγματεύονται καλύτερα.\n◦ Καθηγητές – που θέλουν να είναι σε θέση να διδάσκουν αποτελεσματικότερα και να μάθουν μερικές από τις πιο αποτελεσματικές μεθόδους και αρχές για επιτάχυνση της μάθησης. Που θέλουν να μάθουν πώς να επικοινωνούν καλύτερα με τα παιδιά και τους συναδέλφους τους και πώς να είναι αποτελεσματικότεροι στην εργασία με παιδιά με ειδικές ανάγκες.\n◦ Αθλητές – συχνά έχουμε αθλητές που παρακολουθούν εκπαιδεύσεις μας\, καθώς και προπονητές και προσωπικούς εκπαιδευτές. Είχαμε αθλητές που παρακολούθησαν μαθήματά μας και έχουν επωφεληθεί από τη μάθηση του NLP\, τόσο στις επιδόσεις τους\, όσο και στην προσωπική τους ζωή. Οι προπονητές μαθαίνουν δεξιότητες ζωτικής σημασίας για τη βελτίωση της προπόνησής τους\, αλλά και για την ύπαρξη αποτελεσματικότερης επικοινωνίας με τους πελάτες τους.\n◦ Αυτοανάπτυξη – πολλοί άνθρωποι παρακολουθούν εκπαιδεύσεις μας επειδή απλά θέλουν να αναπτύξουν τους εαυτούς τους. Παρακολουθώντας την εκπαίδευση NLP Συμβούλου\, θα έχετε την ευκαιρία να επιταχύνετε την προσωπική σας ανάπτυξη\, σε νέα επίπεδα.\n◦ Θεραπευτές – πολλοί άνθρωποι που παρακολουθούν τις εκπαιδεύσεις μας είναι θεραπευτές που συνειδητοποιούν τα τεράστια οφέλη που έχουν οι ισχυρές και αποτελεσματικές τεχνικές του NLP όταν τις προσφέρουν στους πελάτες τους. Γιατροί\, ψυχίατροι\, ψυχολόγοι\, κοινωνιολόγοι\, σύμβουλοι και εναλλακτικοί θεραπευτές έχουν παρακολουθήσει εκπαιδεύσεις μας στο παρελθόν. \n Η κατάρτιση NLP Συμβούλου σας διδάσκει όλες τις τεχνικές του πυρήνα και τις αρχές του NLP   \n\nΒασικές Αρχές: ◦ Οι προϋποθέσεις του NLP – ισχυρές πεποιθήσεις για την αριστεία.\n◦ Η σύνδεση μυαλού-σώματος.◦ Αρχές για την επιτυχία.◦ Το μοντέλο επικοινωνίας.\nΑισθητήρια & Αρμονική Σχέση (Rapport). ◦ Πώς να «διαβάζετε» τους ανθρώπους;\n◦ Οι μύθοι της γλώσσας του σώματος.◦ Πώς να ρυθμίζετε τους άλλους ανθρώπους και να κατανοείτε το συναίσθημα;◦ Πώς να κτίζετε rapport γρήγορα και εύκολα;◦ Οικοδόμηση βαθύτερων σχέσεων με άλλους ανθρώπους.\nSubmodalities: ◦ Πώς να αλλάζετε τις έννοιες των εσωτερικών  αναπαραστάσεων σας;◦Σπάστε συνήθειες εύκολα.◦ Σταματήστε να τρώτε φαγητά που δεν χρειάζεστε!◦ Σπάστε περιορίστηκες  πεποιθήσεις.◦ Αποκτήστε τον έλεγχο του μυαλού σας!\nΑγκύρωση (Anchor): ◦ Kυριαρχήστε στα συναισθήματά σας.◦ Δημιουργία «πυροδότησης» μια ισχυρής πηγής.◦ Απαλλαγείτε από τα «κουμπιά»  σας!◦ Διώξτε την αναβλητικότητα!\nΓλώσσα (Language). ◦ Μάθετε τα πρότυπα γλώσσας από τους μεγαλύτερους ηγέτες του κόσμου.◦ Ανακαλύψτε τη γλώσσα του ασυνείδητου.◦ Μάθετε τα πιο ισχυρά μέσα για να αποσπάσετε πληροφορίες.◦ Ανακαλύψτε πώς να επικοινωνείτε πιο αποτελεσματικά με οποιονδήποτε.\nΓραμμή Χρόνου (Timeline) ◦ Μάθετε τεχνικές για να ξεπεράσετε αρνητικά συναισθήματα.\n◦ Διαλύστε περιοριστικές πεποιθήσεις γρήγορα.◦ Ασχοληθείτε με την «ρίζα» των θεμάτων.\nΜέρη (Parts). ◦ Πώς να ασχοληθείτε με συγκρούσεις;◦ Το μοντέλο διαπραγμάτευσης.\n◦ Ευθυγραμμίστε τον εαυτό σας για επιτυχία.\nΣτρατηγικές (Strategies) ◦ Ανακαλύψτε την χρησιμοποιήσει των βασικών προτύπων για την επιτυχία◦ Ανακαλύψτε πώς οι άνθρωποι  πραγματικά παίρνουν αποφάσεις.◦ Πώς να αποκτήσετε στρατηγικές επιτυχίας;\nΦοβίες (Fears) ◦ Διώξτε φοβίες για πάντα!◦ Kατακτήστε μια φοβία σε λίγα λεπτά!\nΥπνωτιστική Γλώσσα (HypnoticLanguage) ◦ Μάθετε τη γλώσσα της επιρροής ◦ Ισχυρά πρότυπα γλώσσα των διαφημιστών!\n\n Τα αποτελέσματά σας; \nΟ καθένας θα πρέπει να μπορεί να καθορίσει τα αποτελέσματά του\, εάν θέλει να έχει τα καλύτερα στη ζωή του. Αν δεν έχετε τα αποτελέσματα που θέλετε\, πιθανώς να καταλήξετε με τίποτα! Αυτό θα μπορούσε να είναι είτε καλό είτε κάτι κακό\, αλλά σίγουρα δεν είναι αυτό που πραγματικά θέλετε! \nΟ NLP έχει διάφορες διαδικασίες για να βοηθήσει τους ανθρώπους να επιτύχουν τα αποτελέσματά τους και ένας γενικός οδηγός είναι τα 4 πόδια του NLP: \n\nΝα γνωρίζετε τι θέλετε. 2.  Να αναλάβετε δράση τώρα! 3.  Να ανακοινώσετε  τα αποτελέσματα σας. 4. Να είστε ευέλικτοι και να αλλάζετε τις ενέργειές σας μέχρι να έχετε τα αποτελέσματα που θέλετε.\n\nΗ αλήθεια είναι ότι αν ακολουθήσετε αυτά τα βήματα σε κάθε τομέα της ζωής σας\, σχεδόν σίγουρα θα έχετε τα καλύτερα αποτελέσματα. Πραγματικά η κατανόηση αυτών των βημάτων είναι το κλειδί- και αυτό είναι κάτι που χρειάζεται να αφιερώσετε λίγο χρόνο πριν την έναρξη της εκπαίδευσης σας ως NLP Practitioner. \nΗ εκπαίδευση σας ως Σύμβουλος NLP θα σας δώσει όλα εκείνα τα εφόδια που χρειάζεστε για να έχετε τα αποτελέσματα που εσείς θέλετε στη ζωή σας. \nΔίδακτρα:\nΤο κόστος του προγράμματος είναι €850.00 με δυνατότητα ευκολίας μηνιαίων πληρωμών \nΠεριλαμβάνονται όλα τα εγχειρίδια και βιβλία. \nΤρόποι πληρωμής:\nΑνά μήνα\nΥπάρχει και η δυνατότητα πληρωμής με πιστωτική Κάρτα. \nΦόρμα Συμμετοχής – Πατήστε\nΠληρωμή και κράτηση Θέσεων \nΕγραφείτε τώρα στο επόμενο πρόγραμμα μας απλός πληρώνοντας  για κράτηση της θέσης σας Φόρμα Συμμετοχής – Πατήστε\nΓια να δηλώσετε την συμμετοχή σας στο πρόγραμμα κατάρτισης\, παρακαλούμε όπως γεμίσετε την ποιο κάτω φόρμα εγραφής ή να μας καλέσετε στο +35799609886 για Κύπρο και Ελλάδα . Θα σας εξηγήσουμε την διαδικασία και θα σας βοηθήσουμε! \n\n\n  \n\n\n\n\n	\n		\n			\n			 \n		\n		\n			\n			 \n		\n	\n	\n		\n			\n			 \n		\n		\n			\n			 \n		\n	\n	\n		\n			\n			 \n		\n	\n	Συμφωνώ με την Πολιτική Απορρήτου (GDPR).\n	 \n\n\n\n\nΦωτογραφίες από προηγούμενα Σεμινάρια – Μαθήματα\nΠλήρης Ενημερωτικό Δελτίο – Πατήστε να διαβάσετε\nΠοιος είναι ο εκπαιδευτής σας; \nΟ Χαράλαμπος Σολέας είναι Ψυχοθεραπευτής (EAP)\, Σύμβουλος Ψυχικής Υγείας (ΕΕΣ)\, πιστοποιημένος εκπαιδευτής Νεύρο Γλωσσικού Προγραμματισμού (ANLP)\, Coaching (AC)\, Υπνοθεραπείας και Σεμιναρίων Προσωπικής και Επαγγελματικής Ανάπτυξης. Κατέχει πτυχίο στην Εγκληματολογία και μεταπτυχιακό στην Ψυχολογία Υγείας. Είναι  πρόεδρος του Συνδέσμου Υπνοθεραπευτών Κύπρου. Συγγραφέας βιβλίων και εκπαιδευτικών προγραμμάτων.  Πιστοποιημένος εκπαιδευτής ενηλίκων από την ΑνΑΔ (Αρχή Ανάπτυξης Ανθρώπινου Δυναμικού Κύπρου) και προσφέρει εταιρικές λύσεις και εκπαιδεύσεις. Προσφέρει τις υπηρεσίες του τόσο σε ατομικά ραντεβού όσο και σε ομαδικά χρησιμοποιώντας Υπνοθεραπεία και Ν.Γ.Π μια Γνωστική – Πελατοκεντρική Ψυχοθεραπευτική προσέγγιση. Στόχος του είναι κάθε πελάτης και μαθητής του να πάρει εφόδια\, τεχνικές και γνώσεις για να αλλάξει την ζωή του. Έχει εκπαιδευτή από τους μεγαλύτερους εκπαιδευτές του κόσμου\, μερικοί είναι: Richard Bandler co-developer of NLP\, R. Frank Pucelik co-developer of NLP\, Tony Robins\, Terence Watts\, Bob Proctor\, Paul McKenna είναι μερικοί από αυτούς.  Tel: +357609886  Email: soleastrainingsolutions@gmail.com   Website: www.soleas.eu \nΓια βίντεο από εμφανίσεις του σε τηλεοπτικά κανάλια και Φωτογραφίες από διαλέξεις και σεμινάρια Πατήστε εδώ.\n       
URL:https://soleas.eu/seminar/programma-symvoulou-nlp-practitioner-pistopoiimen/
CATEGORIES:ΣΕΜΙΝΑΡΙΑ & ΔΙΑΛΕΞΕΙΣ
ATTACH;FMTTYPE=image/jpeg:https://soleas.eu/wp-content/uploads/2024/05/NLP-Coaching-Athens1.jpg
ORGANIZER;CN="Charalambos Soleas":MAILTO:Email: soleastrainingsolutions@gmail.com
END:VEVENT
END:VCALENDAR