BEGIN:VCALENDAR
VERSION:2.0
PRODID:-//Soleas Academy - ECPv6.15.16.1//NONSGML v1.0//EN
CALSCALE:GREGORIAN
METHOD:PUBLISH
X-WR-CALNAME:Soleas Academy
X-ORIGINAL-URL:https://soleas.eu
X-WR-CALDESC:Events for Soleas Academy
REFRESH-INTERVAL;VALUE=DURATION:PT1H
X-Robots-Tag:noindex
X-PUBLISHED-TTL:PT1H
BEGIN:VTIMEZONE
TZID:UTC
BEGIN:STANDARD
TZOFFSETFROM:+0000
TZOFFSETTO:+0000
TZNAME:UTC
DTSTART:20250101T000000
END:STANDARD
END:VTIMEZONE
BEGIN:VEVENT
DTSTART;TZID=UTC:20260926T100000
DTEND;TZID=UTC:20260927T180000
DTSTAMP:20260425T125825
CREATED:20240529T132914Z
LAST-MODIFIED:20260409T142814Z
UID:55026-1790416800-1790532000@soleas.eu
SUMMARY:Τριετές Πρόγραμμα εκπαίδευσης στην Υπνοθεραπεία ως Σύμβουλος Ψυχικής Υγείας
DESCRIPTION:Επιστημονικός Υπεύθυνος τμήματος Συμβουλευτικής Ψυχικής Υγείας: Χαράλαμπος Σολέας \nΟι απόφοιτοι του επαγγελματικού προγράμματος όταν συμπληρώσουν τα προ-απαιτούμενα μαθήματα λαμβάνουν Δίπλωμα στην Συμβουλευτική Γνωσιακή Υπνοθεραπεία και εγγράφονται ως τακτικά μέλη\, χωρίς κάποια πρόσθετη διαδικασία αξιολόγησης ή εξετάσεις\, στην Ελληνική Εταιρεία Συμβουλευτικής (Ε.Ε.Σ.) ως Σύμβουλος Ψυχικής Υγείας τον European Association for Counselling (E.A.C.) και τον Σύνδεσμο Υπνοθεραπευτών Κύπρου. \n \n  \nΜετά την εγγραφή τους στην Ευρωπαϊκή Εταιρεία Συμβουλευτικής (E.A.C.)\, οι απόφοιτοι του προγράμματος μπορούν να λάβουν από την E.A.C. την Ευρωπαϊκή Πιστοποίηση Συμβούλου (European Certificate of Counsellor Accreditation) \nΟι απόφοιτοι του προγράμματος μας οι οποίοι επιθυμούν να ασκήσουν ιδιωτικά το επάγγελμα του Συμβούλου Ψυχικής Υγείας στην Ελλάδα\, με την εγγραφή τους στην Ε.Ε.Σ. μπορούν να εγγραφούν στο Επαγγελματικό Επιμελητήριο και να κάνουν έναρξη επιτηδεύματος στην αρμόδια Δ.Ο.Υ.\, με τον κωδικό (Κωδικός Αρίθμησης Δραστηριότητας Κ.Α.Δ.) του Συμβούλου Ψυχικής Υγείας. Στην Κύπρο μπορούν να κάνουν εγγραφή στον Σύνδεσμο Υπνοθεραπευτών Κύπρου αρχίζοντας εισφορές στις κοινωνικές ασφαλίσεις στην κατηγορία Υπνοθεραπευτής. \nΔιάρκεια και δομή προγράμματος \n700 ώρες εκπαίδευσης στην  Συμβουλευτική Γνωσιακή Υπνοθεραπεία. Αναλυτικά\, οι 100 ώρες αφορούν τον Κορμό – Εισαγωγή στη Συμβουλευτική και οι υπόλοιπες 600 ώρες αφορούν την Κατεύθυνση – Θεωρία της  Προσέγγισης (Υπνοθεραπεία και NLP). \nΗ εκπαίδευση θα πρέπει να έχει ολοκληρωθεί σε διάστημα όχι μικρότερο των τριών ετών και όχι μεγαλύτερο των έξι ετών. \nΠεριλαμβάνονται: \n160 ώρες πρακτικής άσκησης κατά τη διάρκεια του προγράμματος εκπαίδευσης.\n60 ώρες εποπτευόμενης εργασίας\nΕπιπλέον 30 ώρες προσωπικής ανάπτυξης-θεραπείας. \nΠρώτο έτος σπουδών: 10 Σ.Κ. και επιπρόσθετες ώρες στα μέσα κάθε μήνα για πρακτική άσκηση. \nΘα πάρετε:\n• Επαγγελματικό Δίπλωμα στην Υπνοθεραπεία \nΔεύτερο έτος σπουδών: 1 απόγευμα την βδομάδα και 3 ΠΣΚ και επιπρόσθετες ώρες  για πρακτική άσκηση. \nΘα πάρετε δυο πιστοποιητικά:\n• Ανώτερο Επαγγελματικό Δίπλωμα στην Υπνοθεραπεία\n• NLP Practitioner \nΤρίτο έτος σπουδών: 1 απόγευμα την βδομάδα και 3 ΠΣΚ και επιπρόσθετες ώρες για πρακτική άσκηση. \nΘα πάρετε τρία πιστοποιητικά: \n\nNLP Master Practitioner\nΕφαρμοσμένη Συμβουλευτική\nΕπαγγελματικό Δίπλωμα στην Συμβουλευτική Γνωσιακή Υπνοθεραπεία\n\nΟλο το πρόγραμμα αποτελείται από 4 Προγράμματα/Ενότητες \n\nΔιπλωμα στην Υπνοθεραπεια\nΑνωτερο Διπλωμα στην Υπνοθεραπεια\nNLP Practitioner/NLP Master Practitioner\nΕφαρμοσμένη Συμβουλευτική\n\nΣυνολικό κόστος  5100 για το 3 ετές Δίπλωμα στην Γνωσιακή Συμβουλευτική Υπνοθεραπεία (1700 για κάθε έτος σπουδών) \nΠλήρες Ενημερωτικό Δελτίο …. Διαβάστε …. \nΣτο κόστος του προγράμματος περιλαμβάνονται όλα τα βασικά βιβλία και εκτενείς σημειώσεις των μαθημάτων (κάποια σε φυσική και άλλα σε ηλεκτρονική μορφή). \nΕπιπλέον χρεώσεις: Οι σπουδαστές καλούνται να αναλάβουν το κόστος της ατομικής θεραπείας (υπόλοιπες 30 ώρες) και της ατομικής εποπτείας (υπόλοιπες 30 ώρες) κατά την διάρκεια των μαθημάτων τους ώστε να συμπληρώσουν της προ απαιτούμενες ώρες για εγγραφή στην ΕΕΣ (δεν ισχύει για τους φοιτητές της Κύπρου που θα κάνουν εγγραφή στον Σύνδεσμο Υπνοθεραπευτών Κύπρου) . \nΤι θα μάθετε στο τριετές επαγγελματικό πρόγραμμα Συμβούλου Ψυχικής Υγείας – Συμβουλευτική Γνωσιακή Υπνοθεραπεία \n Ενδεικτική θεματολογία για τα τρία έτη σπουδών: \nHypnosis & Hypnotherapy Defined – History & Theories of Hypnosis\nLaws of Suggestion – Mind States & Memory\nTrance States & Depths- Hypnotic Phenomena\nDirect Suggestion Hypnotherapy – Indirect (Erickson) Hypnotherapy\nPsychodynamic/Analytical Hypnotherapy- Cognitive Hypnotherapy\nNeuro Linguistic Programming (NLP)- NLP Mirror\, Pacing & Leading\nObtaining & Seeing Patients – Clinical Practice & Supervision\nGood Practice & Continuing – Professional Development\nHypnotherapy Practice Management- Ethical Practice & Code of Ethics\nWorking with Children- Working with Vulnerable Adults\nStructure of a Therapy Session – Goal Setting & Observation Skills\nWorking with Depression – Working with Pain\nSmoking Cessation – Teaching Self Hypnosis\nCounseling Psychology & Hypnosis – Hypno Psychotherapy\nCognitive Therapy – Hypno Desensitisation\nAssertiveness Training – Performance Anxiety\nStress Management\nDissociation & Deepening – Dissociation & Neurosis\nSecondary Gains – Inner Child Healing\nRegression – Specific Age Regression\nPast Life Regression – Psychoanalysis\nAnalytical Psychology- Individual Psychology\nTransactional Analysis\nNLP Indirect (Erickson) Conversational Hypnosis\nNLP Meta Model – NLP Generalisation\, Deletion & Distortion\nOpen Ended Suggestions – Compound Suggestions\nConfusion Techniques – Interspersion Technique\nCounseling Mindfulness\nInsomnia & Sleep Disorders – Weight Management\nPain Management – Irritable Bowel Syndrome (IBS)\nPanic Attacks & Panic Disorder\nErythrophobia (Blushing) – Sport Performance\nDepression – Hypnodontics & Bruxism\nAllergies – Phobias\nBrief Solution Focused Hypnotherapy – NLP Fast Phobia Cure\nNLP Time Lines – Working with Beliefs\nBereavement & Loss – Excessive Grief\nTerminal Illness – Hypnosis in Oncology\nTrauma & Post Traumatic Stress Disorder (PTSD)\nAnger Management – Excessive Alcohol Consumption\nObsessive Compulsive Disorder (OCD) – Psycho-sexual Disorders\nCounseling Cognitive Hypnotherapy (CCH) – Healthy & Unhealthy Beliefs\nCCH Integration – CCH Parts Dissociation\nCCH Regression Techniques – CCH & Direct Suggestion\nCCH Application & Treatment Protocols – CCH Goal Directed Therapy\nIntegrative Hypnotherapy Concepts – Treatment Strategy & Frameworks\nIntegrative Treatment Approaches – Integrative Treatment Case Studies\nClients Case Studies\nEvidence-based Practice Concepts – Evidence-based Practice Frameworks\nApplying Research Data to Inform Clinical Decisions\nSupervision \nΠλήρες Ενημερωτικό Δελτίο …. Διαβάστε …. \nΠρώτος χρόνος: \nΗμερομηνίες για το έτος 2026 – 2027\nΌλο το πρόγραμμα γίνεται με την μέθοδο της μικτής εκπαίδευσης και διεξάγεται σε 10 ενότητες Σαββατοκύριακα.\nΕπιπρόσθετες μέρες ενδιάμεσα των μαθημάτων για πρακτική εξάσκηση\n(προαιρετικές) \nH παρουσία στα μαθήματα που γίνονται στην τάξη  δεν είναι υποχρεωτική\, μπορείτε να παρακολουθήσετε όλο το πρόγραμμα εξ αποστάσεως. \nΏρες διεξαγωγής:\nΣάββατο και Κυριακή: 10.00 – 18.00 \nΗμερομηνίες Πρώτου Χρόνου Προγράμματος. \nΤο πρόγραμμα γίνεται με την μέθοδο της μικτής εκπαίδευσης:\nΤο πρόγραμμα εκπαίδευσης διεξάγεται σε 10  ενότητες  / Σαββατοκύριακα. \n\n Σεπτεμβρίου Εξ αποστάσεως και στην Λευκωσία στην τάξη\n Οκτωβρίου Εξ αποστάσεως και στην Λευκωσία στην τάξη\n Νοεμβρίου Εξ αποστάσεως και στην Αθήνα στην τάξη\n Δεκεμβρίου Εξ Αποστάσεως και στην Λευκωσία στην τάξη\n Ιανουαρίου Εξ αποστάσεως και στην Λευκωσία στην τάξη\n Φεβρουαρίου Εξ αποστάσεως και στην Λευκωσία στην τάξη\n  Μαρτίου Εξ αποστάσεως και στην Αθήνα στην τάξη\n  Απριλίου Εξ αποστάσεως και στην Λευκωσία στην τάξη\n  Μαΐου Εξ αποστάσεως και στην Λευκωσία στην τάξη\n   Ιουνίου Εξ αποστάσεως και στην Λευκωσία στην τάξη\n\nΕπιπρόσθετες μέρες ενδιάμεσα των μαθημάτων για πρακτική εξάσκηση\nΤα μαθήματα που γίνονται στην τάξη η παρουσία δεν είναι υποχρεωτική\, μπορείτε να παρακολουθήσετε όλο το πρόγραμμα εξ αποστάσεως. \nΔίδακτρα:\nΕιδική τιμή-έκπτωση  1.700 ευρώ  (πληρωμή με δόσεις ανά ενότητα) \nΠερισσότερα για το πρόγραμμα καθώς και το κόστος\, επικοινωνήστε μαζί μας: \nΓια να δηλώσετε την συμμετοχή σας στο πρόγραμμα κατάρτισης\, παρακαλούμε όπως γεμίσετε την ποιο κάτω φόρμα επικοινωνίας  για Ελλάδα και Κύπρο . \nΘα σας εξηγήσουμε την διαδικασία και θα σας βοηθήσουμε να συμπληρώσετε τα έντυπα που απαιτούνται! \n\n\n  \n\n\n\n\n	\n		\n			\n			 \n		\n		\n			\n			 \n		\n	\n	\n		\n			\n			 \n		\n		\n			\n			 \n		\n	\n	\n		\n			\n			 \n		\n	\n	Συμφωνώ με την Πολιτική Απορρήτου (GDPR).
URL:https://soleas.eu/seminar/trietes-programma-ekpaidefsis-symvo/
CATEGORIES:ΣΕΜΙΝΑΡΙΑ & ΔΙΑΛΕΞΕΙΣ
ATTACH;FMTTYPE=image/jpeg:https://soleas.eu/wp-content/uploads/2024/05/Σπουδασε-Υπνοθεραπεια1.jpg
ORGANIZER;CN="Charalambos Soleas":MAILTO:Email: soleastrainingsolutions@gmail.com
END:VEVENT
BEGIN:VEVENT
DTSTART;TZID=UTC:20260421T180000
DTEND;TZID=UTC:20260512T210000
DTSTAMP:20260425T125825
CREATED:20260319T153655Z
LAST-MODIFIED:20260409T135411Z
UID:63135-1776794400-1778619600@soleas.eu
SUMMARY:Επαγγελματική Επιμόρφωση: Sex Coaching & Σεξουαλική Υγεία | 21 Απριλίου
DESCRIPTION:Επαγγελματική Επιμόρφωση: Sex Coaching & Σεξουαλική Υγεία.  \n​Σας προσκαλούμε στο εντατικό σεμινάριο “Sex Coaching για Επαγγελματίες”\, όπου η θεωρία συναντά τη βιωματική εκπαίδευση. \nΑναβαθμίστε την πρακτική σας με διεθνώς αναγνωρισμένα εργαλεία παρέμβασης. Ενισχύστε τις δεξιότητές σας στη διαχείριση θεμάτων σεξουαλικής υγείας και οικειότητας. ​Συχνά\, οι πελάτες φέρνουν στο δωμάτιο της συνεδρίας ζητήματα που αφορούν τη σεξουαλικότητα\, αλλά πολλοί επαγγελματίες νιώθουν ανέτοιμοι να τα διαχειριστούν με τη δέουσα άνεση και επιστημονική εγκυρότητα.​ Ως επαγγελματίες Ψυχικής Υγείας\, Σύμβουλοι ή Coaches\, ερχόμαστε συχνά αντιμέτωποι με ζητήματα σεξουαλικότητας που οι πελάτες μας δυσκολεύονται να εκφράσουν. Η ικανότητά μας να διαχειριζόμαστε αυτά τα θέματα με άνεση\, ασφάλεια και επιστημονική δομή είναι καθοριστική για τη θεραπευτική συμμαχία. \n​🎯 Γιατί να συμμετάσχετε; ​ \nΣε αντίθεση με μια απλή θεωρητική προσέγγιση\, το σεμινάριο εστιάζει στην παροχή άμεσων εργαλείων: ​ \nΜοντέλο SAR (Sexual Attitude Reassessment): Μια μοναδική βιωματική εμπειρία για να αναγνωρίσετε και να διαχειριστείτε τις προσωπικές σας προκαταλήψεις\, διασφαλίζοντας μια non-judgmental προσέγγιση. \n​Μοντέλο PLISSIT: Ένας σαφής οδικός χάρτης για να γνωρίζετε πότε να δίνετε «άδεια» (Permission)\, πότε να παρέχετε πληροφορίες (Limited Information) και πότε να παραπέμπετε σε κλινικό ειδικό. \n​📋 Τι θα διδαχθείτε: ​ \nΠρωτόκολλα Επικοινωνίας: Πώς να θέτετε τις σωστές ερωτήσεις χωρίς να παραβιάζετε τα όρια. Πώς να ρωτάτε για τη σεξουαλική ζωή χωρίς αμηχανία. ​ \nΔιαχείριση Κοινών Προκλήσεων: Ασυμφωνία επιθυμίας\, άγχος απόδοσης\, ζητήματα ταυτότητας\, Χαμηλή επιθυμία\, σεξουαλική ανηδονία και η επίδραση του στρες στη λίμπιντο. \nΕργαλειοθήκη Παρεμβάσεων: Ασκήσεις και πρωτόκολλα για άμεση εφαρμογή στις συνεδρίες σας. \n​​​Ethics & Boundaries: Η δεοντολογία του Sex Coaching και η διαφορά του από τη Σεξολογία ή τη Θεραπεία Ζεύγους. \n​🛠️ Τι θα αποκομίσετε: \n​Εργαλειοθήκη Ασκήσεων: Τεχνικές που μπορείτε να δώσετε ως “homework” στους πελάτες σας. \n​Μοντέλο PLISSIT: Ένα δομημένο σύστημα παρέμβασης σε σεξουαλικά ζητήματα. \n​Βεβαίωση Παρακολούθησης: Για τον εμπλουτισμό του βιογραφικού σας. \n​”Η ικανότητα να μιλάμε ανοιχτά για τη σεξουαλικότητα δεν είναι απλώς δεξιότητα· είναι θεραπευτική παρέμβαση.” \n​📅 Πληροφορίες & Συμμετοχή: \nΠότε: Τρίτη 21&28 Απριλίου 5&12 Μαίου Ωρες: 6.00 – 9.00 μμ\nΣύνολο 12 ώρες εκπαίδευση\nΠου: Στην Τάξη και Εξ αποστάσεως\nΤιμή: 150 ευρώ \n​Παροχές: Συνοδευτικό εγχειρίδιο (Handbook) & Βεβαίωση Παρακολούθησης. \n​📢 Περιορισμένες θέσεις: Η συμμετοχή είναι περιορισμένη για να διασφαλιστεί ο βιωματικός χαρακτήρας των ασκήσεων SAR. \n​🔗 Kάντε την εγγραφή σας εδώ: https://buy.stripe.com/28E14o19Ka4k82oe7Ndwc0g \nΕπικοινωνία:  \n\n\n  \n\n\n\n\n	\n		\n			\n			 \n		\n		\n			\n			 \n		\n	\n	\n		\n			\n			 \n		\n		\n			\n			 \n		\n	\n	\n		\n			\n			 \n		\n	\n	Συμφωνώ με την Πολιτική Απορρήτου (GDPR).\n	 \n\n\n\n\nSoleastrainingsolutions@gmail.com \nTηλ: +35799609886 and WhatsApp \nΕκπαιδευτής: Χαράλαμπος Σολέας \nΠοιος είναι ο εκπαιδευτής σας; Ο Χαράλαμπος Σολέας είναι Ψυχοθεραπευτής\, Σύμβουλος Ψυχικής Υγείας\, πιστοποιημένος εκπαιδευτής Νεύρο Γλωσσικού Προγραμματισμού (NLP)\, Coaching\, Υπνοθεραπείας και Σεμιναρίων  Επαγγελματικής Ανάπτυξης. Κατέχει πτυχίο στην Εγκληματολογία και μεταπτυχιακό στην Ψυχολογία Υγείας. Είναι  πρόεδρος του Συνδέσμου Υπνοθεραπευτών Κύπρου. Συγγραφέας βιβλίων και εκπαιδευτικών προγραμμάτων.  Πιστοποιημένος εκπαιδευτής ενηλίκων από την ΑνΑΔ (Αρχή Ανάπτυξης Ανθρώπινου Δυναμικού Κύπρου) και προσφέρει εταιρικές λύσεις και εκπαιδεύσεις. Προσφέρει τις υπηρεσίες του τόσο σε ατομικά ραντεβού όσο και σε ομαδικά χρησιμοποιώντας Υπνοθεραπεία και Ν.Γ.Π μια Γνωστική – Πελατοκεντρική Ψυχοθεραπευτική προσέγγιση. Στόχος του είναι κάθε πελάτης και μαθητής του να πάρει εφόδια\, τεχνικές και γνώσεις για να αλλάξει την ζωή του. Tel: +357 99609886  Email: soleastrainingsolutions@gmail.com   Website: www.soleas.eu
URL:https://soleas.eu/seminar/sex-coaching/
CATEGORIES:ΣΕΜΙΝΑΡΙΑ & ΔΙΑΛΕΞΕΙΣ
ATTACH;FMTTYPE=image/jpeg:https://soleas.eu/wp-content/uploads/2026/03/Επαγγελματική-Επιμόρφωση-Sex-Coaching-Σεξουαλική-Υγεία-2.jpg
END:VEVENT
END:VCALENDAR